BEGIN:VCALENDAR
VERSION:2.0
PRODID:-//RadiologiaLatam - ECPv6.15.20//NONSGML v1.0//EN
CALSCALE:GREGORIAN
METHOD:PUBLISH
X-WR-CALNAME:RadiologiaLatam
X-ORIGINAL-URL:https://radiologialatam.com
X-WR-CALDESC:Eventos para RadiologiaLatam
REFRESH-INTERVAL;VALUE=DURATION:PT1H
X-Robots-Tag:noindex
X-PUBLISHED-TTL:PT1H
BEGIN:VTIMEZONE
TZID:UTC
BEGIN:STANDARD
TZOFFSETFROM:+0000
TZOFFSETTO:+0000
TZNAME:UTC
DTSTART:20230101T000000
END:STANDARD
END:VTIMEZONE
BEGIN:VTIMEZONE
TZID:UTC
BEGIN:STANDARD
TZOFFSETFROM:+0000
TZOFFSETTO:+0000
TZNAME:UTC
DTSTART:20230101T000000
END:STANDARD
END:VTIMEZONE
BEGIN:VEVENT
DTSTART;VALUE=DATE:20240311
DTEND;VALUE=DATE:20240316
DTSTAMP:20260424T033053
CREATED:20231021T182108Z
LAST-MODIFIED:20231220T161606Z
UID:355-1710115200-1710547199@radiologialatam.com
SUMMARY:HIMSS 2024 Conferencia y Exposición Mundial de Salud - EEUU
DESCRIPTION:
URL:https://radiologialatam.com/event/himss-2024-global-health-conference-exhibition/
LOCATION:Orange County Convention Center\, United States
END:VEVENT
BEGIN:VEVENT
DTSTART;VALUE=DATE:20240228
DTEND;VALUE=DATE:20240304
DTSTAMP:20260424T033053
CREATED:20231220T170630Z
LAST-MODIFIED:20231220T170707Z
UID:1122-1709078400-1709510399@radiologialatam.com
SUMMARY:ECR 2024 Congreso Europeo de Radiología - Austria
DESCRIPTION:
URL:https://radiologialatam.com/event/ecr-2024-congreso-europeo-de-radiologia-austria/
LOCATION:Austria Center Vienna\, Viena\, Austria
END:VEVENT
BEGIN:VEVENT
DTSTART;VALUE=DATE:20240215
DTEND;VALUE=DATE:20240217
DTSTAMP:20260424T033053
CREATED:20231220T171342Z
LAST-MODIFIED:20231220T172111Z
UID:1125-1707955200-1708127999@radiologialatam.com
SUMMARY:15° Jornada Radiología Musculoesquelética Pediátrica SERME-SERPE - España
DESCRIPTION:
URL:https://radiologialatam.com/event/15-jornada-radiologia-musculoesqueletica-pediatrica-serme-serpe-espana/
LOCATION:Palacio de Congresos Conde Ansúrez\, Valladolid\, Spain
END:VEVENT
END:VCALENDAR