BEGIN:VCALENDAR
VERSION:2.0
PRODID:-//RadiologiaLatam - ECPv6.15.20//NONSGML v1.0//EN
CALSCALE:GREGORIAN
METHOD:PUBLISH
X-ORIGINAL-URL:https://radiologialatam.com
X-WR-CALDESC:Eventos para RadiologiaLatam
REFRESH-INTERVAL;VALUE=DURATION:PT1H
X-Robots-Tag:noindex
X-PUBLISHED-TTL:PT1H
BEGIN:VTIMEZONE
TZID:UTC
BEGIN:STANDARD
TZOFFSETFROM:+0000
TZOFFSETTO:+0000
TZNAME:UTC
DTSTART:20230101T000000
END:STANDARD
END:VTIMEZONE
BEGIN:VTIMEZONE
TZID:UTC
BEGIN:STANDARD
TZOFFSETFROM:+0000
TZOFFSETTO:+0000
TZNAME:UTC
DTSTART:20230101T000000
END:STANDARD
END:VTIMEZONE
BEGIN:VEVENT
DTSTART;VALUE=DATE:20250512
DTEND;VALUE=DATE:20250514
DTSTAMP:20260423T232100
CREATED:20250211T084713Z
LAST-MODIFIED:20250211T084713Z
UID:4285-1747008000-1747180799@radiologialatam.com
SUMMARY:Reuters Events Digital Health 2025
DESCRIPTION:Reuters Events Digital Health 2025 se llevará a cabo del 12 al 13 de mayo de 2025 en Nashville\, Tennessee\, Estados Unidos. Este evento reúne a más de 300 líderes en salud digital\, incluyendo ejecutivos senior de tecnología y TI en el sector salud\, con el objetivo de revitalizar el sistema sanitario. El programa incluye estudios de caso comprobados\, sesiones interactivas enfocadas y oportunidades de networking colaborativo\, proporcionando estrategias prácticas y conocimientos aplicables para transformar la atención médica.
URL:https://radiologialatam.com/event/reuters-events-digital-health-2025/
LOCATION:Convencion\, Nashville\, United States
END:VEVENT
BEGIN:VEVENT
DTSTART;VALUE=DATE:20250501
DTEND;VALUE=DATE:20250505
DTSTAMP:20260423T232100
CREATED:20250211T043428Z
LAST-MODIFIED:20250211T043428Z
UID:4211-1746057600-1746403199@radiologialatam.com
SUMMARY:55ª Jornada Paulista de Radiología
DESCRIPTION:Jornada Paulista de Radiología\nes el mayor congreso de Diagnóstico por Imagen de Latinoamérica \nOrganizado por la Sociedad Paulista de Radiología y Diagnóstico por Imagen (SPR)\, cuenta con colaboraciones internacionales en cada edición. Este año\, se realiza en conjunto con la Sociedad Argentina de Radiología (SAR) y la Federación Argentina de Radiología (FAARDIT)\, y tendrá lugar del 1 al 4 de mayo en el Transamerica Expo Center de São Paulo. \nCon el lema “Brasil y Argentina – Celebrando la amistad y la tradición en Radiología”\, se espera que la 55ª edición de la Jornada Paulista de Radiología atraiga a unos 20.000 participantes a lo largo de cuatro días. \nPara inscripciones y mayor infomración: https://jpr.org.br/  \n 
URL:https://radiologialatam.com/event/55a-jornada-paulista-de-radiologia/
LOCATION:Transamerica Expo Center\, Sao Pablo\, Brazil
END:VEVENT
BEGIN:VEVENT
DTSTART;VALUE=DATE:20250427
DTEND;VALUE=DATE:20250502
DTSTAMP:20260423T232100
CREATED:20250211T075039Z
LAST-MODIFIED:20250211T075039Z
UID:4262-1745712000-1746143999@radiologialatam.com
SUMMARY:The 2025 ARRS Annual Meeting
DESCRIPTION:La Reunión Anual de la Sociedad Americana de Rayos Roentgen (ARRS\, por sus siglas en inglés) de 2025 se llevará a cabo del 27 de abril al 1 de mayo de 2025 en el Marriott Marquis San Diego Marina\, ubicado en San Diego\, California. Este evento reunirá a radiólogos de todo el mundo para participar en más de 100 sesiones educativas y más de 200 oportunidades de Educación Médica Continua (CME)
URL:https://radiologialatam.com/event/the-2025-arrs-annual-meeting/
LOCATION:Marriott Marquis San Diego Marina\, San Diego\, California\, United States
END:VEVENT
BEGIN:VEVENT
DTSTART;VALUE=DATE:20250424
DTEND;VALUE=DATE:20250426
DTSTAMP:20260423T232100
CREATED:20250211T070209Z
LAST-MODIFIED:20250211T070233Z
UID:4243-1745452800-1745625599@radiologialatam.com
SUMMARY:Jornada Científica Cono Sur del CIR\, “Hígado de la A a la Z”
DESCRIPTION:La Jornada Científica Cono Sur del CIR\, titulada “Hígado de la A a la Z”\, se llevará a cabo los días 24 y 25 de abril de 2025 en el Diplomatic Hotel\, ubicado en la ciudad de Mendoza\, Argentina. Este evento está organizado por el Colegio Interamericano de Radiología (CIR) y se centrará en una amplia gama de temas relacionados con la radiología hepática\, abarcando desde aspectos básicos hasta los más avanzados en el diagnóstico y tratamiento de enfermedades del hígado. La jornada ofrecerá una plataforma para la actualización de conocimientos\, intercambio de experiencias y discusión de casos clínicos relevantes en el ámbito de la radiología hepática
URL:https://radiologialatam.com/event/jornada-cientifica-cono-sur-del-cir-2025-higado/
LOCATION:Diplomatic Hotel\, Mendoza\, Mendoza\, Argentina
END:VEVENT
BEGIN:VEVENT
DTSTART;VALUE=DATE:20250410
DTEND;VALUE=DATE:20250414
DTSTAMP:20260423T232100
CREATED:20250211T050132Z
LAST-MODIFIED:20250211T050132Z
UID:4222-1744243200-1744588799@radiologialatam.com
SUMMARY:La 84ª Reunión Anual de la Sociedad Radiológica de Japón
DESCRIPTION:Bajo el lema “Radiology for Everyone”\, la 84ª Reunión Anual de la Sociedad Radiológica de Japón (JRC 2025) se llevará a cabo en la ciudad de Yokohama\, Japón\, del 11 al 13 de abril.
URL:https://radiologialatam.com/event/la-84a-reunion-anual-japon-jrc-2025/
LOCATION:PACIFICO Yokohama\, Yokohama\, Japan
END:VEVENT
BEGIN:VEVENT
DTSTART;VALUE=DATE:20250410
DTEND;VALUE=DATE:20250412
DTSTAMP:20260423T232100
CREATED:20250211T084347Z
LAST-MODIFIED:20250211T084347Z
UID:4282-1744243200-1744415999@radiologialatam.com
SUMMARY:Digital Health 2025
DESCRIPTION:Celebrada en colaboración con la Universidad de Waterloo\, esta conferencia se centra en el uso de datos para impulsar decisiones clínicas\, políticas de IA responsables y la escalabilidad de innovaciones en salud. Además de sus ponencias\, Digital Health 2025 fomenta la creación de redes de colaboración globales\, lo que la convierte en una excelente oportunidad para ejecutivos\, investigadores y profesionales sanitarios que buscan establecer alianzas más allá de las fronteras nacionales.
URL:https://radiologialatam.com/event/digital-health-2025/
LOCATION:University of Waterloo\, Waterloo\, Ontario\, Canada
END:VEVENT
BEGIN:VEVENT
DTSTART;VALUE=DATE:20250409
DTEND;VALUE=DATE:20250413
DTSTAMP:20260423T232100
CREATED:20250211T052425Z
LAST-MODIFIED:20250211T052425Z
UID:4228-1744156800-1744502399@radiologialatam.com
SUMMARY:Congreso Anual PAIRS 2025
DESCRIPTION:Congreso Anual de la Sociedad Panárabe de Radiología Intervencionista (PAIRS 2025)\, que se llevará a cabo en Dubái\, Emiratos Árabes Unidos\, del 9 al 12 de abril de 2025. Únete al evento más grande de la región en radiología intervencionista y endovascular\, donde se abordarán todos los aspectos de esta especialidad.
URL:https://radiologialatam.com/event/congreso-anual-pairs-2025-pan-arab-interventional-radiology-society/
LOCATION:Dubai World Trade Centre\, Dubai\, United Arab Emirates
END:VEVENT
BEGIN:VEVENT
DTSTART;VALUE=DATE:20250408
DTEND;VALUE=DATE:20250411
DTSTAMP:20260423T232100
CREATED:20250211T083840Z
LAST-MODIFIED:20250211T083840Z
UID:4279-1744070400-1744329599@radiologialatam.com
SUMMARY:DMEA 2025 - Connecting Digital Health
DESCRIPTION:Como el evento de salud digital más destacado de Europa\, DMEA atrae anualmente a más de 18\,600 asistentes y 800 expositores. El programa incluye ponencias inspiradoras\, conferencias prácticas y amplias oportunidades de networking. Para aquellos interesados en el progreso de la salud digital en el Viejo Continente\, DMEA proporciona un panorama completo de las últimas tendencias\, regulaciones y modelos de negocio que impulsan la adopción de tecnologías en entornos clínicos y administrativos.
URL:https://radiologialatam.com/event/dmea-2025-connecting-digital-health/
LOCATION:Messe Berlin GmbH\, Berlín\, Germany
END:VEVENT
BEGIN:VEVENT
DTSTART;VALUE=DATE:20250407
DTEND;VALUE=DATE:20250412
DTSTAMP:20260423T232100
CREATED:20250211T073638Z
LAST-MODIFIED:20250211T073638Z
UID:4256-1743984000-1744415999@radiologialatam.com
SUMMARY:SPR 2025 Annual Meeting - Sociedad de Radiología Pediátrica
DESCRIPTION:La Reunión Anual de la Society for Pediatric Radiology (Sociedad de Radiología Pediátrica) 2025 se llevará a cabo de manera presencial del 7 al 11 de abril en el Hilton Hawaiian Village en Honolulu\, Hawái. Este año\, los 4.5 días completos del evento ofrecerán una mezcla de temas científicos\, clínicos y no clínicos\, además de conferencias destacadas\, sesiones especiales sobre inteligencia artificial (IA) y su impacto global\, la popular sesión SPR Jeopardy\, Shark Tank y un nuevo juego educativo que ¡no te puedes perder! No se realizará un curso de posgrado por separado.
URL:https://radiologialatam.com/event/spr-2025-annual-meeting/
LOCATION:Hilton Hawaiian Village\, Honolulu\, United States
END:VEVENT
BEGIN:VEVENT
DTSTART;VALUE=DATE:20250324
DTEND;VALUE=DATE:20250329
DTSTAMP:20260423T232100
CREATED:20250211T060540Z
LAST-MODIFIED:20250211T090638Z
UID:4240-1742774400-1743206399@radiologialatam.com
SUMMARY:Congreso de Radiología Val d'Isère\, Francia 2025
DESCRIPTION:El Congreso de Radiología Val d’Isère – Vilgrain 2025 se celebrará del 24 al 28 de marzo de 2025 en la pintoresca localidad de Val d’Isère\, Francia. Este evento\, organizado por la profesora Valérie Vilgrain\, ofrece una inmersión completa en lo mejor de la radiología\, abarcando todas las especialidades radiológicas con destacados ponentes europeos. El objetivo es resaltar aspectos importantes de la práctica diaria\, mejorar las habilidades y optimizar la gestión de los pacientes.
URL:https://radiologialatam.com/event/congreso-de-radiologia-val-disere-francia-2025/
LOCATION:Centre de Congrès\, Val d'Isère\, France
END:VEVENT
BEGIN:VEVENT
DTSTART;VALUE=DATE:20250303
DTEND;VALUE=DATE:20250307
DTSTAMP:20260423T232100
CREATED:20250226T085721Z
LAST-MODIFIED:20250226T085721Z
UID:4424-1740960000-1741305599@radiologialatam.com
SUMMARY:HIMSS Global Health Conference & Exhibition
DESCRIPTION:Este evento es reconocido como el epicentro de la innovación en el cuidado de la salud\, reuniendo a profesionales y expertos de todo el ecosistema de salud digital. Los asistentes tendrán la oportunidad de explorar las últimas tendencias en inteligencia artificial\, ciberseguridad\, interoperabilidad y equidad en salud\, además de participar en sesiones educativas dirigidas por destacados oradores.
URL:https://radiologialatam.com/event/himss-global-health-conference-exhibition-2/
LOCATION:The Venetian Convention & Expo Center\, Las Vegas\, United States
END:VEVENT
BEGIN:VEVENT
DTSTART;VALUE=DATE:20250227
DTEND;VALUE=DATE:20250301
DTSTAMP:20260423T232100
CREATED:20250211T055900Z
LAST-MODIFIED:20250211T055900Z
UID:4237-1740614400-1740787199@radiologialatam.com
SUMMARY:XXVIII Seminario Internacional de Radiología 2025
DESCRIPTION:Seminario Internacional de Radiología – Barranquilla – “Una experiencia que hay que vivir” \nLa Asociación de Radiología del Atlántico presenta su Seminario Anual\, que durante 25 años ha sido pionero en tópicos relevantes en la práctica diaria del Radiólogo.
URL:https://radiologialatam.com/event/seminario-internacional-radiologia-barranquilla-2025/
LOCATION:Hotel Hilton Garden Inn\, Barranquilla\, Colombia
END:VEVENT
BEGIN:VEVENT
DTSTART;VALUE=DATE:20250226
DTEND;VALUE=DATE:20250303
DTSTAMP:20260423T232100
CREATED:20250211T045321Z
LAST-MODIFIED:20250211T045429Z
UID:4219-1740528000-1740959999@radiologialatam.com
SUMMARY:ECR 2025: Radiología planetaria
DESCRIPTION:Como el congreso más grande de Europa en radiología e imagen médica\, el ECR representa un ecosistema completo de ciencia\, innovación y networking por descubrir. Es un mundo que invita a radiólogos\, empresas del sector y profesionales de la imagen a convertirse en pioneros\, explorando las maravillas de un territorio aún por descubrir\, todo en el corazón de Viena.
URL:https://radiologialatam.com/event/ecr-2025-congreso-europeo-de-radiologia-austria/
LOCATION:Austria Center Vienna\, Viena\, Austria
END:VEVENT
BEGIN:VEVENT
DTSTART;VALUE=DATE:20250216
DTEND;VALUE=DATE:20250220
DTSTAMP:20260423T232100
CREATED:20250211T080814Z
LAST-MODIFIED:20250211T080814Z
UID:4271-1739664000-1740009599@radiologialatam.com
SUMMARY:ViVE 2025 - DIgital Health
DESCRIPTION:ViVE es un evento destacado en el ámbito de la salud digital\, resultado de la colaboración entre CHIME (College of Healthcare Information Management Executives) y HLTH\, enfocado en la transformación empresarial en el sector sanitario. La edición de 2025 se llevará a cabo del 16 al 19 de febrero en el Music City Center de Nashville\, Tennessee\, Estados Unidos. Los temas principales incluirán inteligencia artificial generativa\, interoperabilidad\, ciberseguridad y atención centrada en la comunidad. Además\, ViVE 2025 contará con pabellones especializados como el AI Pavilion\, donde los asistentes podrán experimentar demostraciones interactivas en vivo sobre casos de uso específicos de IA en el cuidado de la salud.
URL:https://radiologialatam.com/event/vive-2025-digital-health/
LOCATION:Music City Center\, Nashville\, United States
END:VEVENT
BEGIN:VEVENT
DTSTART;TZID=UTC:20241003T080000
DTEND;TZID=UTC:20241005T170000
DTSTAMP:20260423T232100
CREATED:20240306T102033Z
LAST-MODIFIED:20240306T102033Z
UID:2193-1727942400-1728147600@radiologialatam.com
SUMMARY:XXVIII Congreso Peruano de Radiología 2024 - Lima\, Perú
DESCRIPTION:
URL:https://radiologialatam.com/event/xxviii-congreso-peruano-de-radiologia-2024-lima-peru/
LOCATION:Centro de Convenciones Hotel Los Delfines\, Lima\, Perú
END:VEVENT
BEGIN:VEVENT
DTSTART;VALUE=DATE:20241003
DTEND;VALUE=DATE:20241006
DTSTAMP:20260423T232100
CREATED:20231220T163942Z
LAST-MODIFIED:20231220T163942Z
UID:1110-1727913600-1728172799@radiologialatam.com
SUMMARY:Congreso Chileno de Radiología 2024 - Chile
DESCRIPTION:
URL:https://radiologialatam.com/event/congreso-chileno-de-radiologia-2024-chile/
LOCATION:Centro de Eventos Metropolitan Santiago\, Santiago\, Chile
END:VEVENT
BEGIN:VEVENT
DTSTART;VALUE=DATE:20240929
DTEND;VALUE=DATE:20241003
DTSTAMP:20260423T232100
CREATED:20240717T091305Z
LAST-MODIFIED:20240717T091305Z
UID:2745-1727568000-1727913599@radiologialatam.com
SUMMARY:66ª reunión anual de ASTRO 2024\, Washington DC\, EEUU
DESCRIPTION:
URL:https://radiologialatam.com/event/66a-reunion-anual-de-astro-2024-washington-dc-eeuu/
LOCATION:Walter E. Washington Convention Center\, Estados Unidos
END:VEVENT
BEGIN:VEVENT
DTSTART;VALUE=DATE:20240914
DTEND;VALUE=DATE:20240919
DTSTAMP:20260423T232100
CREATED:20231220T173150Z
LAST-MODIFIED:20231220T173150Z
UID:1134-1726272000-1726703999@radiologialatam.com
SUMMARY:CIRSE 2024 Sociedad Europea de Radiología Cardiovascular e Intervencionista - Portugal
DESCRIPTION:
URL:https://radiologialatam.com/event/cirse-2024-sociedad-europea-de-radiologia-cardiovascular-e-intervencionista-portugal/
LOCATION:Lisbon Congress Centre\, Lisboa\, Portugal
END:VEVENT
BEGIN:VEVENT
DTSTART;VALUE=DATE:20240626
DTEND;VALUE=DATE:20240629
DTSTAMP:20260423T232100
CREATED:20231220T165708Z
LAST-MODIFIED:20231220T165708Z
UID:1116-1719360000-1719619199@radiologialatam.com
SUMMARY:32° Congreso Colegio Interamericano de Radiología CIR 2024 - Costa Rica
DESCRIPTION:
URL:https://radiologialatam.com/event/32-congreso-colegio-interamericano-de-radiologia-cir-2024-costa-rica/
LOCATION:Hotel Real Intercontinental\, San José\, Costa Rica
END:VEVENT
BEGIN:VEVENT
DTSTART;VALUE=DATE:20240603
DTEND;VALUE=DATE:20240608
DTSTAMP:20260423T232100
CREATED:20240326T112740Z
LAST-MODIFIED:20240326T112740Z
UID:2305-1717372800-1717804799@radiologialatam.com
SUMMARY:Congreso Anual de la Sociedad Europea de Radiología Pediátrica  - Sevilla\, España
DESCRIPTION:
URL:https://radiologialatam.com/event/congreso-europeo-radiologia-pediatrica-espr-2024-sevilla/
LOCATION:Hotel Meliá Sevilla
END:VEVENT
BEGIN:VEVENT
DTSTART;VALUE=DATE:20240602
DTEND;VALUE=DATE:20240606
DTSTAMP:20260423T232100
CREATED:20231220T182539Z
LAST-MODIFIED:20231220T182539Z
UID:1137-1717286400-1717631999@radiologialatam.com
SUMMARY:Imagenología en Copenhague 2024 - Dinamarca
DESCRIPTION:
URL:https://radiologialatam.com/event/imagenologia-en-copenhague-2024-dinamarca/
LOCATION:Radisson Collection Royal Hotel\, Copenhage\, Denmark
END:VEVENT
BEGIN:VEVENT
DTSTART;VALUE=DATE:20240529
DTEND;VALUE=DATE:20240601
DTSTAMP:20260423T232100
CREATED:20231220T161451Z
LAST-MODIFIED:20231221T095845Z
UID:1100-1716940800-1717199999@radiologialatam.com
SUMMARY:HIMSS 2024 Conferencia y Exposición Europea de Salud - Italia
DESCRIPTION:
URL:https://radiologialatam.com/event/himss-2024-conferencia-y-exposicion-europea-de-salud-italia/
LOCATION:La Nuvola\, Centro de Convenciones de Roma\, Roma\, Italy
END:VEVENT
BEGIN:VEVENT
DTSTART;VALUE=DATE:20240522
DTEND;VALUE=DATE:20240526
DTSTAMP:20260423T232100
CREATED:20231220T171934Z
LAST-MODIFIED:20231220T171934Z
UID:1128-1716336000-1716681599@radiologialatam.com
SUMMARY:37° Congreso SERAM Sociedad Española de Radiología Médica - España
DESCRIPTION:
URL:https://radiologialatam.com/event/37-congreso-seram-sociedad-espanola-de-radiologia-medica-espana/
LOCATION:Centro de Convenciones Internacionales\, Barcelona\, Spain
END:VEVENT
BEGIN:VEVENT
DTSTART;VALUE=DATE:20240516
DTEND;VALUE=DATE:20240519
DTSTAMP:20260423T232100
CREATED:20231220T165006Z
LAST-MODIFIED:20231220T165006Z
UID:1113-1715817600-1716076799@radiologialatam.com
SUMMARY:47° Congreso Colombiano de Radiología - Colombia
DESCRIPTION:
URL:https://radiologialatam.com/event/47-congreso-colombiano-de-radiologia-colombia/
LOCATION:Centro de Convenciones Cartagena de Indias\, Cartagena de Indias\, Colombia
END:VEVENT
BEGIN:VEVENT
DTSTART;VALUE=DATE:20240505
DTEND;VALUE=DATE:20240510
DTSTAMP:20260423T232100
CREATED:20231220T162820Z
LAST-MODIFIED:20231220T162820Z
UID:1104-1714867200-1715299199@radiologialatam.com
SUMMARY:ARRS 2024 American Roentgen Ray Society - EEUU - Virtual - On Demand
DESCRIPTION:
URL:https://radiologialatam.com/event/arrs-2024-american-roentgen-ray-society-eeuu-virtual-on-demand/
LOCATION:Sheraton Boston Hotel\, United States
END:VEVENT
BEGIN:VEVENT
DTSTART;VALUE=DATE:20240502
DTEND;VALUE=DATE:20240506
DTSTAMP:20260423T232100
CREATED:20231220T163351Z
LAST-MODIFIED:20231220T163351Z
UID:1107-1714608000-1714953599@radiologialatam.com
SUMMARY:54º Jornada Paulista de Radiología - Brasil
DESCRIPTION:
URL:https://radiologialatam.com/event/54o-jornada-paulista-de-radiologia-brasil/
LOCATION:Transamerica Expo Center\, Sao Pablo\, Brazil
END:VEVENT
BEGIN:VEVENT
DTSTART;VALUE=DATE:20240428
DTEND;VALUE=DATE:20240502
DTSTAMP:20260423T232100
CREATED:20231220T172529Z
LAST-MODIFIED:20231220T172529Z
UID:1131-1714262400-1714607999@radiologialatam.com
SUMMARY:ECIO 2024 Conferencia Europea sobre Oncología Intervencionista
DESCRIPTION:
URL:https://radiologialatam.com/event/ecio-2024-conferencia-europea-sobre-oncologia-intervencionista/
LOCATION:Palacio de Congresos\, Valencia\, Spain
END:VEVENT
BEGIN:VEVENT
DTSTART;TZID=UTC:20240418T080000
DTEND;TZID=UTC:20240419T170000
DTSTAMP:20260423T232100
CREATED:20240209T084156Z
LAST-MODIFIED:20240209T084156Z
UID:1949-1713427200-1713546000@radiologialatam.com
SUMMARY:Instituto Europeo de Innovación y Tecnología - EIT Health Summit 2024 - Países Bajos
DESCRIPTION:
URL:https://radiologialatam.com/event/instituto-europeo-de-innovacion-y-tecnologia-eit-health-summit-2024-paises-bajos/
LOCATION:Postillion Hotel & Convention Centre WTC\, Rotterdam\, Rotterdam\, Países Bajos
END:VEVENT
BEGIN:VEVENT
DTSTART;VALUE=DATE:20240411
DTEND;VALUE=DATE:20240415
DTSTAMP:20260423T232100
CREATED:20231030T002752Z
LAST-MODIFIED:20231220T155902Z
UID:544-1712793600-1713139199@radiologialatam.com
SUMMARY:Simposio 2024 de SBI Sociedad de Imágenes Mamarias - Canadá
DESCRIPTION:
URL:https://radiologialatam.com/event/2024-sbi-breast-imaging-symposium/
LOCATION:Montréal Convention Centre\, 1001 Pl. Jean-Paul-Riopelle\, Montréal\, Canada
END:VEVENT
BEGIN:VEVENT
DTSTART;VALUE=DATE:20240311
DTEND;VALUE=DATE:20240316
DTSTAMP:20260423T232100
CREATED:20231021T182108Z
LAST-MODIFIED:20231220T161606Z
UID:355-1710115200-1710547199@radiologialatam.com
SUMMARY:HIMSS 2024 Conferencia y Exposición Mundial de Salud - EEUU
DESCRIPTION:
URL:https://radiologialatam.com/event/himss-2024-global-health-conference-exhibition/
LOCATION:Orange County Convention Center\, United States
END:VEVENT
END:VCALENDAR