BEGIN:VCALENDAR
VERSION:2.0
PRODID:-//RadiologiaLatam - ECPv6.15.20//NONSGML v1.0//EN
CALSCALE:GREGORIAN
METHOD:PUBLISH
X-ORIGINAL-URL:https://radiologialatam.com
X-WR-CALDESC:Eventos para RadiologiaLatam
REFRESH-INTERVAL;VALUE=DURATION:PT1H
X-Robots-Tag:noindex
X-PUBLISHED-TTL:PT1H
BEGIN:VTIMEZONE
TZID:UTC
BEGIN:STANDARD
TZOFFSETFROM:+0000
TZOFFSETTO:+0000
TZNAME:UTC
DTSTART:20250101T000000
END:STANDARD
END:VTIMEZONE
BEGIN:VEVENT
DTSTART;VALUE=DATE:20260615
DTEND;VALUE=DATE:20260619
DTSTAMP:20260423T190911
CREATED:20260113T180003Z
LAST-MODIFIED:20260113T180003Z
UID:5863-1781481600-1781827199@radiologialatam.com
SUMMARY:HLTH Europe 2026 - Innovación y Salud Digital
DESCRIPTION:Evento europeo de innovación sanitaria que reúne líderes del ecosistema para abordar desafíos y oportunidades de la salud en Europa. Tema: innovación y transformación del sistema de salud en Europa (healthcare innovation\, ecosistema de salud digital).
URL:https://radiologialatam.com/event/hlth-europe-2026-innovacion-y-salud-digital/
LOCATION:RAI Convention Centre\, Amsterdam\, Netherlands
END:VEVENT
BEGIN:VEVENT
DTSTART;VALUE=DATE:20260629
DTEND;VALUE=DATE:20260701
DTSTAMP:20260423T190911
CREATED:20260113T192041Z
LAST-MODIFIED:20260113T192041Z
UID:5902-1782691200-1782863999@radiologialatam.com
SUMMARY:2.ª Conferencia Global Anual de IA 2026 – Humano + máquina
DESCRIPTION:Conferencia híbrida sobre implementación segura de IA clínica\, con investigación\, sesiones educativas y networking interdisciplinario. Tema: implementación segura y práctica de IA\, con enfoque clínico interdisciplinario.
URL:https://radiologialatam.com/event/2-a-conferencia-global-anual-de-ia-2026-humano-maquina/
LOCATION:QEII Centre\, Westminster (y modalidad online)\, Londres\, United Kingdom
END:VEVENT
BEGIN:VEVENT
DTSTART;VALUE=DATE:20260922
DTEND;VALUE=DATE:20260924
DTSTAMP:20260423T190911
CREATED:20260113T190721Z
LAST-MODIFIED:20260113T190721Z
UID:5897-1790035200-1790207999@radiologialatam.com
SUMMARY:World Medical Innovation Forum 2026 (WMIF2026)
DESCRIPTION:Foro global sobre innovación e inversión en salud\, con líderes de industria\, academia y regulación. Tema: Innovation at Scale.
URL:https://radiologialatam.com/event/world-medical-innovation-forum-2026-wmif2026/
LOCATION:Westin Boston Seaport District\, Boston\, United States
END:VEVENT
BEGIN:VEVENT
DTSTART;VALUE=DATE:20261008
DTEND;VALUE=DATE:20261011
DTSTAMP:20260423T190911
CREATED:20260113T175159Z
LAST-MODIFIED:20260113T175159Z
UID:5859-1791417600-1791676799@radiologialatam.com
SUMMARY:27° Congreso Chileno de Radiología
DESCRIPTION:Congreso nacional de la SOCHRADI con actualizaciones en imágenes diagnósticas\, subespecialidades\, educación médica e industria.
URL:https://radiologialatam.com/event/27-congreso-chileno-de-radiologia/
LOCATION:Centro de Eventos Metropolitan Santiago\, Santiago\, Chile
END:VEVENT
BEGIN:VEVENT
DTSTART;VALUE=DATE:20261105
DTEND;VALUE=DATE:20261107
DTSTAMP:20260423T190911
CREATED:20260406T075146Z
LAST-MODIFIED:20260406T075146Z
UID:6235-1793836800-1794009599@radiologialatam.com
SUMMARY:AIR: The Future of AI in Healthcare: Lessons from Radiology
DESCRIPTION:La conferencia AIR: The Future of AI in Healthcare: Lessons from Radiology se posiciona como una propuesta educativa innovadora centrada en el impacto de la inteligencia artificial en el ámbito sanitario\, tomando como eje de aprendizaje los avances logrados en radiología.
URL:https://radiologialatam.com/event/air-2026-futuro-radiologia-noviembre-budapest/
LOCATION:InterContinental Budapest.\, Budapest\, Hungary
END:VEVENT
BEGIN:VEVENT
DTSTART;VALUE=DATE:20261115
DTEND;VALUE=DATE:20261119
DTSTAMP:20260423T190911
CREATED:20260113T180209Z
LAST-MODIFIED:20260113T180209Z
UID:5866-1794700800-1795046399@radiologialatam.com
SUMMARY:HLTH USA 2026 - Innovación y Salud Digital
DESCRIPTION:Evento líder de innovación sanitaria en EE. UU.\, con foco en IA\, diagnóstico\, pharma\, inversión y alianzas estratégicas. Tema: innovación y transformación digital en salud (IA y tecnología emergente\, diagnóstico\, pharma\, workforce).
URL:https://radiologialatam.com/event/hlth-usa-2026-innovacion-y-salud-digital/
LOCATION:The Venetian Convention & Expo Center\, Las Vegas\, United States
END:VEVENT
BEGIN:VEVENT
DTSTART;VALUE=DATE:20261129
DTEND;VALUE=DATE:20261204
DTSTAMP:20260423T190911
CREATED:20260113T192529Z
LAST-MODIFIED:20260113T192529Z
UID:5905-1795910400-1796342399@radiologialatam.com
SUMMARY:RSNA 2026: At the Center of Care
DESCRIPTION:Principal congreso global de radiología\, con ciencia\, educación\, tecnología e industria en McCormick Place. Tema: congreso anual de radiología con programa científico\, educativo y exhibición técnica.
URL:https://radiologialatam.com/event/rsna-2026-at-the-center-of-care/
LOCATION:Centro de Convenciones McCormick Place\, Chicago\, United States
END:VEVENT
END:VCALENDAR