BEGIN:VCALENDAR
VERSION:2.0
PRODID:-//RadiologiaLatam - ECPv6.15.20//NONSGML v1.0//EN
CALSCALE:GREGORIAN
METHOD:PUBLISH
X-WR-CALNAME:RadiologiaLatam
X-ORIGINAL-URL:https://radiologialatam.com
X-WR-CALDESC:Eventos para RadiologiaLatam
REFRESH-INTERVAL;VALUE=DURATION:PT1H
X-Robots-Tag:noindex
X-PUBLISHED-TTL:PT1H
BEGIN:VTIMEZONE
TZID:UTC
BEGIN:STANDARD
TZOFFSETFROM:+0000
TZOFFSETTO:+0000
TZNAME:UTC
DTSTART:20240101T000000
END:STANDARD
END:VTIMEZONE
BEGIN:VEVENT
DTSTART;VALUE=DATE:20251130
DTEND;VALUE=DATE:20251205
DTSTAMP:20260423T205138
CREATED:20250211T054357Z
LAST-MODIFIED:20250211T054357Z
UID:4234-1764460800-1764892799@radiologialatam.com
SUMMARY:Reunión Anual de la RSNA 2025
DESCRIPTION:La Reunión Anual 2025 de la Radiological Society of North America (RSNA) se llevará a cabo del 30 de noviembre al 4 de diciembre de 2025 en el McCormick Place de Chicago\, Illinois. Este evento es reconocido como el foro global más destacado en radiología\, dedicado a promover la excelencia en la atención al paciente y la prestación de servicios de salud a través de la educación\, la investigación y la innovación tecnológica.
URL:https://radiologialatam.com/event/reunion-anual-de-la-rsna-2025/
LOCATION:Centro de Convenciones McCormick Place\, Chicago\, United States
END:VEVENT
BEGIN:VEVENT
DTSTART;VALUE=DATE:20251029
DTEND;VALUE=DATE:20251102
DTSTAMP:20260423T205138
CREATED:20250723T135432Z
LAST-MODIFIED:20250723T135432Z
UID:5066-1761696000-1762041599@radiologialatam.com
SUMMARY:SILAN XXXV - SENR LIII - Neurorradiología
DESCRIPTION:XXXV Reunión Científica Anual de la Sociedad Iberolatinoamericana de Neurorradiología Diagnóstica y Terapéutica (SILAN) y la LIII Reunión Anual de la Sociedad Española de Neurorradiología (SENR)\, que se celebrarán conjuntamente del 29 de octubre al 1 de noviembre de 2025 en el Hotel Barceló Sants\, en la ciudad de Barcelona\, España.
URL:https://radiologialatam.com/event/silan-senr-neurorradiologia-barcelona/
LOCATION:Hotel Barceló Sants\, Barcelona\, Spain
END:VEVENT
BEGIN:VEVENT
DTSTART;VALUE=DATE:20251016
DTEND;VALUE=DATE:20251019
DTSTAMP:20260423T205138
CREATED:20250211T080038Z
LAST-MODIFIED:20250211T080038Z
UID:4268-1760572800-1760831999@radiologialatam.com
SUMMARY:7º Congreso Español de la Mama
DESCRIPTION:El Congreso Español de la Mama\, organizado por la Sociedad Española de Senología y Patología Mamaria (SESPM) y la Sociedad Española de Diagnóstico por Imagen de la Mama (SEDIM)\, se ha constituido en la reunión de referencia en español para todos los especialistas dedicados a la Patología Mamaria.
URL:https://radiologialatam.com/event/7-congreso-espanol-de-la-mama/
LOCATION:Recinto Ferial IFEMA Madrid\, Madrid\, Spain
END:VEVENT
BEGIN:VEVENT
DTSTART;VALUE=DATE:20251009
DTEND;VALUE=DATE:20251012
DTSTAMP:20260423T205138
CREATED:20250211T075604Z
LAST-MODIFIED:20250211T075604Z
UID:4265-1759968000-1760227199@radiologialatam.com
SUMMARY:20th – XX Balkan Congress of Radiology
DESCRIPTION:El 20º Congreso Balcánico de Radiología se llevará a cabo del 9 al 11 de octubre de 2025 en el Hotel Aquila Atlantis en Heraklion\, Creta\, Grecia. Este evento reunirá a profesionales de la radiología de la región balcánica y más allá\, ofreciendo una plataforma para compartir conocimientos\, discutir avances científicos y fomentar la colaboración en el campo de la radiología. Durante el congreso\, se presentarán conferencias magistrales\, sesiones científicas y talleres interactivos\, cubriendo una amplia gama de temas relevantes para la práctica radiológica actual. Además\, se contará con la participación de expertos internacionales que compartirán sus experiencias y conocimientos\, enriqueciendo la experiencia de los asistentes.
URL:https://radiologialatam.com/event/20-balkan-congress-of-radiology/
LOCATION:Hotel Aquila Atlantis\, Heraklion\, Creta\, Greece
END:VEVENT
BEGIN:VEVENT
DTSTART;VALUE=DATE:20251002
DTEND;VALUE=DATE:20251005
DTSTAMP:20260423T205138
CREATED:20250717T150427Z
LAST-MODIFIED:20250717T150427Z
UID:5040-1759363200-1759622399@radiologialatam.com
SUMMARY:XXV Congreso Ecuatoriano de Radiología e Imagenología
DESCRIPTION:XXV Congreso Ecuatoriano de Radiología e Imagenología 2025: Del 2-4 de octubre de 2025 en el Hotel Sheraton de Guayaquil\, donde expertos nacionales e internacionales compartirán conocimientos y avances en radiología mediante conferencias\, simposios y talleres.
URL:https://radiologialatam.com/event/xxv-congreso-ecuatoriano-de-radiologia-e-imagenologia/
LOCATION:Hotel Sheraton Guayaquil\, Guayaquil\, Ecuador
END:VEVENT
BEGIN:VEVENT
DTSTART;VALUE=DATE:20250918
DTEND;VALUE=DATE:20250921
DTSTAMP:20260423T205138
CREATED:20250715T172306Z
LAST-MODIFIED:20250715T172306Z
UID:5023-1758153600-1758412799@radiologialatam.com
SUMMARY:54º Congreso Brasileño de Radiología y Diagnóstico por Imagen - CBR25
DESCRIPTION:El evento se llevará a cabo del 18 al 20 de septiembre en Curitiba (PR)\, en el espacio UP Experience. El tema de esta edición es “Semillas del Mañana”. El CBR25 es el principal congreso de radiología de Brasil\, organizado por el Colégio Brasileiro de Radiologia\, y reúne a especialistas nacionales e internacionales para compartir las últimas actualizaciones científicas y tecnológicas del sector.
URL:https://radiologialatam.com/event/54o-congreso-brasileno-de-radiologia-cbr25/
LOCATION:UP Experience\, Curitiba\, Paraná\, Brazil
END:VEVENT
BEGIN:VEVENT
DTSTART;VALUE=DATE:20250915
DTEND;VALUE=DATE:20250918
DTSTAMP:20260423T205138
CREATED:20250211T123939Z
LAST-MODIFIED:20250211T123939Z
UID:4300-1757894400-1758153599@radiologialatam.com
SUMMARY:World Medical Innovation Forum
DESCRIPTION:El World Medical Innovation Forum se llevará a cabo del 15 al 17 de septiembre de 2025 en el Encore Boston Harbor. El foro es líder en facilitar el acceso y el intercambio directo en persona entre los principales actores y tomadores de decisiones.
URL:https://radiologialatam.com/event/world-medical-innovation-forum/
LOCATION:Encore Boston Harbor\, Everett\, United States
END:VEVENT
BEGIN:VEVENT
DTSTART;VALUE=DATE:20250911
DTEND;VALUE=DATE:20250914
DTSTAMP:20260423T205138
CREATED:20250211T044713Z
LAST-MODIFIED:20250211T044713Z
UID:4216-1757548800-1757807999@radiologialatam.com
SUMMARY:Congreso Argentino de Diagnóstico por Imágenes\, CADI 2025
DESCRIPTION:CADI\, Congreso Argentino de Diagnóstico por Imágenes\, uno de los eventos de la especialidad más importantes de la región. La cita es del 11 al 13 de septiembre en el CEC – Centro de Convenciones Buenos Aires.
URL:https://radiologialatam.com/event/congreso-argentino-de-diagnostico-por-imagenes-cadi-2025/
LOCATION:Centro de Convenciones Buenos Aires\, Buenos Aires\, Argentina
END:VEVENT
BEGIN:VEVENT
DTSTART;VALUE=DATE:20250725
DTEND;VALUE=DATE:20250727
DTSTAMP:20260423T205138
CREATED:20250211T071913Z
LAST-MODIFIED:20250211T071951Z
UID:4250-1753401600-1753574399@radiologialatam.com
SUMMARY:7° Congreso de Inteligencia Artificial
DESCRIPTION:El 7° Congreso de Inteligencia Artificial se llevará a cabo en Bogotá\, Colombia\, los días 25 y 26 de julio de 2025. Este evento se enfocará en las aplicaciones de la inteligencia artificial en imágenes diagnósticas y salud\, reuniendo a expertos y profesionales del sector para compartir conocimientos y avances en estas áreas
URL:https://radiologialatam.com/event/7-congreso-de-inteligencia-artificial/
LOCATION:Centro de Convenciones\, Bogotá\, Colombia
END:VEVENT
BEGIN:VEVENT
DTSTART;VALUE=DATE:20250621
DTEND;VALUE=DATE:20250625
DTSTAMP:20260423T205138
CREATED:20250211T145157Z
LAST-MODIFIED:20250211T145157Z
UID:4304-1750464000-1750809599@radiologialatam.com
SUMMARY:2025 SNMMI Annual Meeting
DESCRIPTION:La Reunión Anual de la Sociedad de Medicina Nuclear e Imagen Molecular (SNMMI) 2025 se llevará a cabo del 21 al 24 de junio de 2025 en el Centro de Convenciones Ernest N. Morial de Nueva Orleans\, Estados Unidos. Este evento es reconocido como el principal encuentro educativo\, científico y de investigación en medicina nuclear e imagen molecular.
URL:https://radiologialatam.com/event/2025-snmmi-annual-meeting/
LOCATION:Centro de Convenciones Ernest N. Morial\, New Orleans\, United States
END:VEVENT
BEGIN:VEVENT
DTSTART;VALUE=DATE:20250612
DTEND;VALUE=DATE:20250614
DTSTAMP:20260423T205138
CREATED:20250211T051528Z
LAST-MODIFIED:20250211T051528Z
UID:4225-1749686400-1749859199@radiologialatam.com
SUMMARY:XVIII Congreso SIBIM | 2025
DESCRIPTION:Jornadas Internacionales del Conosur de Cáncer de Mama de la Sociedad Iberoamericana de Imagen Mamaria (SIBIM)\, a realizarse en la ciudad de Rosario\, Argentina los días 12 y 13 de Junio de 2025. \n¿Por qué participar del Congreso SIBIM en Argentina?\nProfundiza las novedades y actualizaciones científicas de la especialidad.\nExpertos de renombre mundial compartirán sus conocimientos y experiencias.
URL:https://radiologialatam.com/event/xviii-congreso-sibim-2025/
LOCATION:Hotel Ros Tower\, Rosario\, Santa Fe\, Argentina
END:VEVENT
BEGIN:VEVENT
DTSTART;VALUE=DATE:20250610
DTEND;VALUE=DATE:20250613
DTSTAMP:20260423T205138
CREATED:20250211T081405Z
LAST-MODIFIED:20250211T081405Z
UID:4274-1749513600-1749772799@radiologialatam.com
SUMMARY:HIMSS Global Health Conference & Exhibition
DESCRIPTION:La HIMSS25 European Health Conference & Exhibition se llevará a cabo del 10 al 12 de junio de 2025 en el Palais des Congrès de París\, Francia. Este evento reunirá a líderes de opinión y profesionales de la salud de todo el mundo para compartir ideas e innovaciones que darán forma al futuro de la atención médica en Europa y más allá. El programa incluirá una variedad de oportunidades para aprender y conectarse\, con temas especializados diseñados para abordar los desafíos y oportunidades clave que están moldeando el futuro de la atención médica. Además\, el 10 de junio se dedicará por completo a la innovación\, incluyendo el Innovation Forum y la final del Startup Pitchfest\, donde los finalistas presentarán sus innovaciones y su impacto en la atención médica.
URL:https://radiologialatam.com/event/himss-global-health-conference-exhibition/
LOCATION:Palais des Congrès\, Paris\, France
END:VEVENT
BEGIN:VEVENT
DTSTART;VALUE=DATE:20250605
DTEND;VALUE=DATE:20250607
DTSTAMP:20260423T205138
CREATED:20250211T123251Z
LAST-MODIFIED:20250211T123251Z
UID:4297-1749081600-1749254399@radiologialatam.com
SUMMARY:Bits & Pretzels HealthTech Conference
DESCRIPTION:La Bits & Pretzels HealthTech Conference se llevará a cabo del 5 al 6 de junio de 2025 en Múnich\, Alemania. Este evento reúne a más de 2\,500 participantes\, incluyendo 1\,200 ejecutivos\, 400 inversores y 100 expositores\, con el objetivo de conectar startups\, inversores y fabricantes en el sector de la salud digital.  La conferencia se llevará a cabo en el ICM – Internationales Congress Center de Múnich\, Alemania
URL:https://radiologialatam.com/event/bits-pretzels-healthtech-conference/
LOCATION:ICM – Internationales Congress Center\, Munich\, Argentina
END:VEVENT
BEGIN:VEVENT
DTSTART;VALUE=DATE:20250602
DTEND;VALUE=DATE:20250607
DTSTAMP:20260423T205138
CREATED:20250211T074320Z
LAST-MODIFIED:20250211T074320Z
UID:4259-1748822400-1749254399@radiologialatam.com
SUMMARY:Congreso Europeo de Radiología Pediátrica - ESPR 2025
DESCRIPTION:El 59.º Congreso Anual de la Sociedad Europea de Radiología Pediátrica (ESPR) se llevará a cabo del 2 al 6 de junio de 2025 en el Hotel Caro de Bucarest\, Rumania. Este evento reunirá a profesionales de la radiología pediátrica de toda Europa y el mundo para compartir experiencias\, avances científicos y fomentar la colaboración en el ámbito de la radiología pediátrica.
URL:https://radiologialatam.com/event/congreso-europeo-de-radiologia-pediatrica-espr-2025/
LOCATION:Hotel Caro\, Bucharest\, Romania
END:VEVENT
BEGIN:VEVENT
DTSTART;VALUE=DATE:20250601
DTEND;VALUE=DATE:20250604
DTSTAMP:20260423T205138
CREATED:20250211T090317Z
LAST-MODIFIED:20250211T090330Z
UID:4291-1748736000-1748995199@radiologialatam.com
SUMMARY:e-Health Conference 2025
DESCRIPTION:La e-Health 2025 Conference and Tradeshow se llevará a cabo del 1 al 3 de junio de 2025 en el Westin Harbour Castle Toronto\,  Toronto\, Ontario\, Canadá. Este evento es el principal punto de encuentro para profesionales canadienses de la salud digital que buscan mejorar la atención médica y su prestación. Desde su inicio en el año 2000\, la conferencia ha sido un epicentro vital para el debate y la discusión sobre la salud digital en Canadá\, atrayendo anualmente a más de 1\,000 profesionales de la salud.
URL:https://radiologialatam.com/event/e-health-2025-toronto-canada/
LOCATION:Westin Harbour Castle Toronto\, Toronto\, Ontario\, Canada
END:VEVENT
BEGIN:VEVENT
DTSTART;VALUE=DATE:20250519
DTEND;VALUE=DATE:20250521
DTSTAMP:20260423T205138
CREATED:20250211T084942Z
LAST-MODIFIED:20250211T084942Z
UID:4288-1747612800-1747785599@radiologialatam.com
SUMMARY:DHIS: Digital Healthcare Innovation Summit
DESCRIPTION:DHIS combina la perspectiva de startups\, inversores y líderes en salud. Aborda temas de interés actual\, como la salud de la mujer\, el Internet de las Cosas (IoT) aplicado a la medicina y las tendencias regulatorias que afectan la innovación. Con ponentes reconocidos y sesiones interactivas\, el evento se erige como un punto de encuentro para generar nuevas ideas de negocio y fomentar el desarrollo de proyectos disruptivos.
URL:https://radiologialatam.com/event/dhis-digital-healthcare-innovation-summit/
LOCATION:Seaport Hotel\, Boston\, United States
END:VEVENT
BEGIN:VEVENT
DTSTART;VALUE=DATE:20250515
DTEND;VALUE=DATE:20250518
DTSTAMP:20260423T205138
CREATED:20250211T071106Z
LAST-MODIFIED:20250211T071106Z
UID:4248-1747267200-1747526399@radiologialatam.com
SUMMARY:14° Congreso Latinoamericano de Tecnologías y Producción de Imágenes Diagnósticas
DESCRIPTION:El 14° Congreso Latinoamericano de Tecnologías y Producción de Imágenes Diagnósticas se llevará a cabo del 15 al 17 de mayo de 2025 en el Centro de Convenciones Cartagena de Indias\, en Cartagena\, Colombia. Este evento reunirá a profesionales y expertos en radiología e imágenes diagnósticas de toda Latinoamérica para compartir conocimientos\, discutir avances tecnológicos y fortalecer la colaboración en la región. Los participantes tendrán la oportunidad de asistir a conferencias\, talleres y sesiones científicas que abordarán las últimas innovaciones en el campo de las imágenes diagnósticas.
URL:https://radiologialatam.com/event/14-congreso-latinoamericano-de-tecnologias-y-produccion-de-imagenes-diagnosticas/
LOCATION:Centro de Convenciones Cartagena de Indias\, Cartagena de Indias\, Colombia
END:VEVENT
BEGIN:VEVENT
DTSTART;VALUE=DATE:20250515
DTEND;VALUE=DATE:20250518
DTSTAMP:20260423T205138
CREATED:20250211T070610Z
LAST-MODIFIED:20250211T070610Z
UID:4246-1747267200-1747526399@radiologialatam.com
SUMMARY:16° Encuentro Nacional de Gestión de Servicios de Imágenes Diagnósticas e Intervencionismo
DESCRIPTION:El 16° Encuentro Nacional de Gestión de Servicios de Imágenes Diagnósticas e Intervencionismo se llevará a cabo del 15 al 17 de mayo de 2025 en el Centro de Convenciones Cartagena de Indias\, Colombia. Este evento\, que se realiza en simultáneo con el Congreso Colombiano de Radiología\, está diseñado para el personal administrativo de instituciones de salud. Ofrece una actualización integral en los aspectos más relevantes para la coordinación y operación de servicios de imágenes diagnósticas y radiología intervencionista.
URL:https://radiologialatam.com/event/16-encuentro-nacional-de-gestion-de-servicios-de-imagenes-diagnosticas-e-intervencionismo/
LOCATION:Centro de Convenciones Cartagena de Indias\, Cartagena de Indias\, Colombia
END:VEVENT
BEGIN:VEVENT
DTSTART;VALUE=DATE:20250515
DTEND;VALUE=DATE:20250518
DTSTAMP:20260423T205138
CREATED:20250211T053006Z
LAST-MODIFIED:20250211T053006Z
UID:4231-1747267200-1747526399@radiologialatam.com
SUMMARY:48° Congreso Colombiano de Radiología - CCR 2025
DESCRIPTION:La edición del CCR del año 2025 se realizará en simultáneo con el 16° Encuentro Nacional para la Gestión de Servicios de Imágenes Diagnósticas y con el 14° Congreso Latinoamericano de Tecnologías y Producción de Imágenes Diagnósticas. El Congreso Colombiano de Radiología – CCR es el más importante evento de la especialidad en imágenes diagnósticas y radiología intervencionista en Colombia \n 
URL:https://radiologialatam.com/event/48-congreso-colombiano-de-radiologia-ccr/
LOCATION:Centro de Convenciones Cartagena de Indias\, Cartagena de Indias\, Colombia
END:VEVENT
BEGIN:VEVENT
DTSTART;VALUE=DATE:20250513
DTEND;VALUE=DATE:20250517
DTSTAMP:20260423T205138
CREATED:20250211T072904Z
LAST-MODIFIED:20250211T072904Z
UID:4253-1747094400-1747439999@radiologialatam.com
SUMMARY:XXX Congreso ALASBIMN 2025
DESCRIPTION:El XXX Congreso de La Asociación Latinoamericana de Sociedades de Biología y Medicina Nuclear (ALASBIMN) 2025 se llevará a cabo del 13 al 16 de marzo de 2025 en el Paradisus Cancún\, Quintana Roo\, México. Este evento reunirá a profesionales de la medicina nuclear y la imagenología molecular de toda Latinoamérica para compartir conocimientos\, discutir avances científicos y fortalecer la colaboración en la región. \n 
URL:https://radiologialatam.com/event/xxx-alasbimn-mexico-2025/
LOCATION:Paradisus Cancún\, Cancún\, Quintana Roo\, Mexico
END:VEVENT
BEGIN:VEVENT
DTSTART;VALUE=DATE:20250512
DTEND;VALUE=DATE:20250514
DTSTAMP:20260423T205138
CREATED:20250211T084713Z
LAST-MODIFIED:20250211T084713Z
UID:4285-1747008000-1747180799@radiologialatam.com
SUMMARY:Reuters Events Digital Health 2025
DESCRIPTION:Reuters Events Digital Health 2025 se llevará a cabo del 12 al 13 de mayo de 2025 en Nashville\, Tennessee\, Estados Unidos. Este evento reúne a más de 300 líderes en salud digital\, incluyendo ejecutivos senior de tecnología y TI en el sector salud\, con el objetivo de revitalizar el sistema sanitario. El programa incluye estudios de caso comprobados\, sesiones interactivas enfocadas y oportunidades de networking colaborativo\, proporcionando estrategias prácticas y conocimientos aplicables para transformar la atención médica.
URL:https://radiologialatam.com/event/reuters-events-digital-health-2025/
LOCATION:Convencion\, Nashville\, United States
END:VEVENT
BEGIN:VEVENT
DTSTART;VALUE=DATE:20250501
DTEND;VALUE=DATE:20250505
DTSTAMP:20260423T205138
CREATED:20250211T043428Z
LAST-MODIFIED:20250211T043428Z
UID:4211-1746057600-1746403199@radiologialatam.com
SUMMARY:55ª Jornada Paulista de Radiología
DESCRIPTION:Jornada Paulista de Radiología\nes el mayor congreso de Diagnóstico por Imagen de Latinoamérica \nOrganizado por la Sociedad Paulista de Radiología y Diagnóstico por Imagen (SPR)\, cuenta con colaboraciones internacionales en cada edición. Este año\, se realiza en conjunto con la Sociedad Argentina de Radiología (SAR) y la Federación Argentina de Radiología (FAARDIT)\, y tendrá lugar del 1 al 4 de mayo en el Transamerica Expo Center de São Paulo. \nCon el lema “Brasil y Argentina – Celebrando la amistad y la tradición en Radiología”\, se espera que la 55ª edición de la Jornada Paulista de Radiología atraiga a unos 20.000 participantes a lo largo de cuatro días. \nPara inscripciones y mayor infomración: https://jpr.org.br/  \n 
URL:https://radiologialatam.com/event/55a-jornada-paulista-de-radiologia/
LOCATION:Transamerica Expo Center\, Sao Pablo\, Brazil
END:VEVENT
BEGIN:VEVENT
DTSTART;VALUE=DATE:20250427
DTEND;VALUE=DATE:20250502
DTSTAMP:20260423T205138
CREATED:20250211T075039Z
LAST-MODIFIED:20250211T075039Z
UID:4262-1745712000-1746143999@radiologialatam.com
SUMMARY:The 2025 ARRS Annual Meeting
DESCRIPTION:La Reunión Anual de la Sociedad Americana de Rayos Roentgen (ARRS\, por sus siglas en inglés) de 2025 se llevará a cabo del 27 de abril al 1 de mayo de 2025 en el Marriott Marquis San Diego Marina\, ubicado en San Diego\, California. Este evento reunirá a radiólogos de todo el mundo para participar en más de 100 sesiones educativas y más de 200 oportunidades de Educación Médica Continua (CME)
URL:https://radiologialatam.com/event/the-2025-arrs-annual-meeting/
LOCATION:Marriott Marquis San Diego Marina\, San Diego\, California\, United States
END:VEVENT
BEGIN:VEVENT
DTSTART;VALUE=DATE:20250424
DTEND;VALUE=DATE:20250426
DTSTAMP:20260423T205138
CREATED:20250211T070209Z
LAST-MODIFIED:20250211T070233Z
UID:4243-1745452800-1745625599@radiologialatam.com
SUMMARY:Jornada Científica Cono Sur del CIR\, “Hígado de la A a la Z”
DESCRIPTION:La Jornada Científica Cono Sur del CIR\, titulada “Hígado de la A a la Z”\, se llevará a cabo los días 24 y 25 de abril de 2025 en el Diplomatic Hotel\, ubicado en la ciudad de Mendoza\, Argentina. Este evento está organizado por el Colegio Interamericano de Radiología (CIR) y se centrará en una amplia gama de temas relacionados con la radiología hepática\, abarcando desde aspectos básicos hasta los más avanzados en el diagnóstico y tratamiento de enfermedades del hígado. La jornada ofrecerá una plataforma para la actualización de conocimientos\, intercambio de experiencias y discusión de casos clínicos relevantes en el ámbito de la radiología hepática
URL:https://radiologialatam.com/event/jornada-cientifica-cono-sur-del-cir-2025-higado/
LOCATION:Diplomatic Hotel\, Mendoza\, Mendoza\, Argentina
END:VEVENT
BEGIN:VEVENT
DTSTART;VALUE=DATE:20250410
DTEND;VALUE=DATE:20250414
DTSTAMP:20260423T205138
CREATED:20250211T050132Z
LAST-MODIFIED:20250211T050132Z
UID:4222-1744243200-1744588799@radiologialatam.com
SUMMARY:La 84ª Reunión Anual de la Sociedad Radiológica de Japón
DESCRIPTION:Bajo el lema “Radiology for Everyone”\, la 84ª Reunión Anual de la Sociedad Radiológica de Japón (JRC 2025) se llevará a cabo en la ciudad de Yokohama\, Japón\, del 11 al 13 de abril.
URL:https://radiologialatam.com/event/la-84a-reunion-anual-japon-jrc-2025/
LOCATION:PACIFICO Yokohama\, Yokohama\, Japan
END:VEVENT
BEGIN:VEVENT
DTSTART;VALUE=DATE:20250410
DTEND;VALUE=DATE:20250412
DTSTAMP:20260423T205138
CREATED:20250211T084347Z
LAST-MODIFIED:20250211T084347Z
UID:4282-1744243200-1744415999@radiologialatam.com
SUMMARY:Digital Health 2025
DESCRIPTION:Celebrada en colaboración con la Universidad de Waterloo\, esta conferencia se centra en el uso de datos para impulsar decisiones clínicas\, políticas de IA responsables y la escalabilidad de innovaciones en salud. Además de sus ponencias\, Digital Health 2025 fomenta la creación de redes de colaboración globales\, lo que la convierte en una excelente oportunidad para ejecutivos\, investigadores y profesionales sanitarios que buscan establecer alianzas más allá de las fronteras nacionales.
URL:https://radiologialatam.com/event/digital-health-2025/
LOCATION:University of Waterloo\, Waterloo\, Ontario\, Canada
END:VEVENT
BEGIN:VEVENT
DTSTART;VALUE=DATE:20250409
DTEND;VALUE=DATE:20250413
DTSTAMP:20260423T205138
CREATED:20250211T052425Z
LAST-MODIFIED:20250211T052425Z
UID:4228-1744156800-1744502399@radiologialatam.com
SUMMARY:Congreso Anual PAIRS 2025
DESCRIPTION:Congreso Anual de la Sociedad Panárabe de Radiología Intervencionista (PAIRS 2025)\, que se llevará a cabo en Dubái\, Emiratos Árabes Unidos\, del 9 al 12 de abril de 2025. Únete al evento más grande de la región en radiología intervencionista y endovascular\, donde se abordarán todos los aspectos de esta especialidad.
URL:https://radiologialatam.com/event/congreso-anual-pairs-2025-pan-arab-interventional-radiology-society/
LOCATION:Dubai World Trade Centre\, Dubai\, United Arab Emirates
END:VEVENT
BEGIN:VEVENT
DTSTART;VALUE=DATE:20250408
DTEND;VALUE=DATE:20250411
DTSTAMP:20260423T205138
CREATED:20250211T083840Z
LAST-MODIFIED:20250211T083840Z
UID:4279-1744070400-1744329599@radiologialatam.com
SUMMARY:DMEA 2025 - Connecting Digital Health
DESCRIPTION:Como el evento de salud digital más destacado de Europa\, DMEA atrae anualmente a más de 18\,600 asistentes y 800 expositores. El programa incluye ponencias inspiradoras\, conferencias prácticas y amplias oportunidades de networking. Para aquellos interesados en el progreso de la salud digital en el Viejo Continente\, DMEA proporciona un panorama completo de las últimas tendencias\, regulaciones y modelos de negocio que impulsan la adopción de tecnologías en entornos clínicos y administrativos.
URL:https://radiologialatam.com/event/dmea-2025-connecting-digital-health/
LOCATION:Messe Berlin GmbH\, Berlín\, Germany
END:VEVENT
BEGIN:VEVENT
DTSTART;VALUE=DATE:20250407
DTEND;VALUE=DATE:20250412
DTSTAMP:20260423T205138
CREATED:20250211T073638Z
LAST-MODIFIED:20250211T073638Z
UID:4256-1743984000-1744415999@radiologialatam.com
SUMMARY:SPR 2025 Annual Meeting - Sociedad de Radiología Pediátrica
DESCRIPTION:La Reunión Anual de la Society for Pediatric Radiology (Sociedad de Radiología Pediátrica) 2025 se llevará a cabo de manera presencial del 7 al 11 de abril en el Hilton Hawaiian Village en Honolulu\, Hawái. Este año\, los 4.5 días completos del evento ofrecerán una mezcla de temas científicos\, clínicos y no clínicos\, además de conferencias destacadas\, sesiones especiales sobre inteligencia artificial (IA) y su impacto global\, la popular sesión SPR Jeopardy\, Shark Tank y un nuevo juego educativo que ¡no te puedes perder! No se realizará un curso de posgrado por separado.
URL:https://radiologialatam.com/event/spr-2025-annual-meeting/
LOCATION:Hilton Hawaiian Village\, Honolulu\, United States
END:VEVENT
BEGIN:VEVENT
DTSTART;VALUE=DATE:20250324
DTEND;VALUE=DATE:20250329
DTSTAMP:20260423T205138
CREATED:20250211T060540Z
LAST-MODIFIED:20250211T090638Z
UID:4240-1742774400-1743206399@radiologialatam.com
SUMMARY:Congreso de Radiología Val d'Isère\, Francia 2025
DESCRIPTION:El Congreso de Radiología Val d’Isère – Vilgrain 2025 se celebrará del 24 al 28 de marzo de 2025 en la pintoresca localidad de Val d’Isère\, Francia. Este evento\, organizado por la profesora Valérie Vilgrain\, ofrece una inmersión completa en lo mejor de la radiología\, abarcando todas las especialidades radiológicas con destacados ponentes europeos. El objetivo es resaltar aspectos importantes de la práctica diaria\, mejorar las habilidades y optimizar la gestión de los pacientes.
URL:https://radiologialatam.com/event/congreso-de-radiologia-val-disere-francia-2025/
LOCATION:Centre de Congrès\, Val d'Isère\, France
END:VEVENT
END:VCALENDAR